BEGIN:VCALENDAR
VERSION:2.0
PRODID:-//KV Poelzonia e.V. - ECPv6.15.20//NONSGML v1.0//EN
CALSCALE:GREGORIAN
METHOD:PUBLISH
X-ORIGINAL-URL:https://poelzonia.de
X-WR-CALDESC:Veranstaltungen für KV Poelzonia e.V.
REFRESH-INTERVAL;VALUE=DURATION:PT1H
X-Robots-Tag:noindex
X-PUBLISHED-TTL:PT1H
BEGIN:VTIMEZONE
TZID:Europe/Berlin
BEGIN:DAYLIGHT
TZOFFSETFROM:+0100
TZOFFSETTO:+0200
TZNAME:CEST
DTSTART:20250330T010000
END:DAYLIGHT
BEGIN:STANDARD
TZOFFSETFROM:+0200
TZOFFSETTO:+0100
TZNAME:CET
DTSTART:20251026T010000
END:STANDARD
BEGIN:DAYLIGHT
TZOFFSETFROM:+0100
TZOFFSETTO:+0200
TZNAME:CEST
DTSTART:20260329T010000
END:DAYLIGHT
BEGIN:STANDARD
TZOFFSETFROM:+0200
TZOFFSETTO:+0100
TZNAME:CET
DTSTART:20261025T010000
END:STANDARD
BEGIN:DAYLIGHT
TZOFFSETFROM:+0100
TZOFFSETTO:+0200
TZNAME:CEST
DTSTART:20270328T010000
END:DAYLIGHT
BEGIN:STANDARD
TZOFFSETFROM:+0200
TZOFFSETTO:+0100
TZNAME:CET
DTSTART:20271031T010000
END:STANDARD
END:VTIMEZONE
BEGIN:VEVENT
DTSTART;TZID=Europe/Berlin:20260220T201100
DTEND;TZID=Europe/Berlin:20260221T020000
DTSTAMP:20260421T105857
CREATED:20251113T094050Z
LAST-MODIFIED:20251113T094050Z
UID:978-1771618260-1771639200@poelzonia.de
SUMMARY:Tanzbären in Strumpfhosen
DESCRIPTION:Stramme Waden und pure Eleganz unterstützt durch befreundete Vereine und Tanzgruppen
URL:https://poelzonia.de/event/tanzbaeren-in-strumpfhosen-6/
LOCATION:Faschingszelt des KVP e.V.\, Gewerbegebiet 9\, Pölzig\, Thüringen\, 07554\, Deutschland
ORGANIZER;CN="Karnevalverein P%C3%B6lzonia e.V.":MAILTO:info@poelzonia.de
END:VEVENT
END:VCALENDAR