BEGIN:VCALENDAR
VERSION:2.0
PRODID:-//KV Poelzonia e.V. - ECPv6.15.20//NONSGML v1.0//EN
CALSCALE:GREGORIAN
METHOD:PUBLISH
X-WR-CALNAME:KV Poelzonia e.V.
X-ORIGINAL-URL:https://poelzonia.de
X-WR-CALDESC:Veranstaltungen für KV Poelzonia e.V.
REFRESH-INTERVAL;VALUE=DURATION:PT1H
X-Robots-Tag:noindex
X-PUBLISHED-TTL:PT1H
BEGIN:VTIMEZONE
TZID:Europe/Berlin
BEGIN:DAYLIGHT
TZOFFSETFROM:+0100
TZOFFSETTO:+0200
TZNAME:CEST
DTSTART:20240331T010000
END:DAYLIGHT
BEGIN:STANDARD
TZOFFSETFROM:+0200
TZOFFSETTO:+0100
TZNAME:CET
DTSTART:20241027T010000
END:STANDARD
BEGIN:DAYLIGHT
TZOFFSETFROM:+0100
TZOFFSETTO:+0200
TZNAME:CEST
DTSTART:20250330T010000
END:DAYLIGHT
BEGIN:STANDARD
TZOFFSETFROM:+0200
TZOFFSETTO:+0100
TZNAME:CET
DTSTART:20251026T010000
END:STANDARD
BEGIN:DAYLIGHT
TZOFFSETFROM:+0100
TZOFFSETTO:+0200
TZNAME:CEST
DTSTART:20260329T010000
END:DAYLIGHT
BEGIN:STANDARD
TZOFFSETFROM:+0200
TZOFFSETTO:+0100
TZNAME:CET
DTSTART:20261025T010000
END:STANDARD
END:VTIMEZONE
BEGIN:VEVENT
DTSTART;TZID=Europe/Berlin:20250301T201100
DTEND;TZID=Europe/Berlin:20250302T040000
DTSTAMP:20260425T201232
CREATED:20241105T122303Z
LAST-MODIFIED:20250122T081418Z
UID:864-1740859860-1740888000@poelzonia.de
SUMMARY:AUSVERKAUFT!!! Faschingstanz mit der Rock Revival Band
DESCRIPTION:
URL:https://poelzonia.de/event/faschingstanz/
LOCATION:Faschingszelt des KVP e.V.\, Gewerbegebiet 9\, Pölzig\, Thüringen\, 07554\, Deutschland
ORGANIZER;CN="Karnevalverein P%C3%B6lzonia e.V.":MAILTO:info@poelzonia.de
END:VEVENT
BEGIN:VEVENT
DTSTART;TZID=Europe/Berlin:20250302T150000
DTEND;TZID=Europe/Berlin:20250302T200000
DTSTAMP:20260425T201232
CREATED:20241105T122411Z
LAST-MODIFIED:20241105T122411Z
UID:866-1740927600-1740945600@poelzonia.de
SUMMARY:Kinderfasching
DESCRIPTION:
URL:https://poelzonia.de/event/kinderfasching-6/
LOCATION:Faschingszelt des KVP e.V.\, Gewerbegebiet 9\, Pölzig\, Thüringen\, 07554\, Deutschland
ORGANIZER;CN="Karnevalverein P%C3%B6lzonia e.V.":MAILTO:info@poelzonia.de
END:VEVENT
BEGIN:VEVENT
DTSTART;TZID=Europe/Berlin:20250303T201100
DTEND;TZID=Europe/Berlin:20250304T040000
DTSTAMP:20260425T201232
CREATED:20241105T122516Z
LAST-MODIFIED:20250122T081435Z
UID:868-1741032660-1741060800@poelzonia.de
SUMMARY:Rosenmontagsparty mit der Rock Revival Band
DESCRIPTION:
URL:https://poelzonia.de/event/rosenmontagsparty-2/
LOCATION:Faschingszelt des KVP e.V.\, Gewerbegebiet 9\, Pölzig\, Thüringen\, 07554\, Deutschland
ORGANIZER;CN="Karnevalverein P%C3%B6lzonia e.V.":MAILTO:info@poelzonia.de
END:VEVENT
BEGIN:VEVENT
DTSTART;TZID=Europe/Berlin:20250305T180000
DTEND;TZID=Europe/Berlin:20250305T233000
DTSTAMP:20260425T201232
CREATED:20241105T122603Z
LAST-MODIFIED:20241105T122603Z
UID:870-1741197600-1741217400@poelzonia.de
SUMMARY:Maskenball für Junggebliebene mit dem Music Express
DESCRIPTION:
URL:https://poelzonia.de/event/maskenball-fuer-junggebliebene-mit-dem-music-express-2/
LOCATION:Faschingszelt des KVP e.V.\, Gewerbegebiet 9\, Pölzig\, Thüringen\, 07554\, Deutschland
ORGANIZER;CN="Karnevalverein P%C3%B6lzonia e.V.":MAILTO:info@poelzonia.de
END:VEVENT
BEGIN:VEVENT
DTSTART;TZID=Europe/Berlin:20250307T200000
DTEND;TZID=Europe/Berlin:20250308T020000
DTSTAMP:20260425T201232
CREATED:20241105T122729Z
LAST-MODIFIED:20250122T081258Z
UID:872-1741377600-1741399200@poelzonia.de
SUMMARY:AUSVERKAUFT!!! Tanzbären in Strumpfhosen
DESCRIPTION:
URL:https://poelzonia.de/event/tanzbaeren-in-strumpfhosen-5/
LOCATION:Faschingszelt des KVP e.V.\, Gewerbegebiet 9\, Pölzig\, Thüringen\, 07554\, Deutschland
ORGANIZER;CN="Karnevalverein P%C3%B6lzonia e.V.":MAILTO:info@poelzonia.de
END:VEVENT
BEGIN:VEVENT
DTSTART;TZID=Europe/Berlin:20250309T100000
DTEND;TZID=Europe/Berlin:20250309T170000
DTSTAMP:20260425T201232
CREATED:20241105T122923Z
LAST-MODIFIED:20250122T081246Z
UID:874-1741514400-1741539600@poelzonia.de
SUMMARY:AUSVERKAUFT!!! Bockbierfrühschoppen mit dem Music Express
DESCRIPTION:
URL:https://poelzonia.de/event/bockbierfruehschoppen-mit-dem-music-express-3/
LOCATION:Faschingszelt des KVP e.V.\, Gewerbegebiet 9\, Pölzig\, Thüringen\, 07554\, Deutschland
ORGANIZER;CN="Karnevalverein P%C3%B6lzonia e.V.":MAILTO:info@poelzonia.de
END:VEVENT
END:VCALENDAR